BEGIN:VCALENDAR
VERSION:2.0
PRODID:-//wp-events-plugin.com//7.2.3.1//EN
TZID:America/New_York
X-WR-TIMEZONE:America/New_York
BEGIN:VEVENT
UID:884@firstcoastpleinairpainters.org
DTSTART;TZID=America/New_York:20260501T090000
DTEND;TZID=America/New_York:20260615T180000
DTSTAMP:20260407T222251Z
URL:https://firstcoastpleinairpainters.org/events/to-steal-a-moment/
SUMMARY:"To Steal A Moment" Main Library Show
DESCRIPTION:[caption id="attachment_10467" align="alignnone" width="300"] J
 acksonville Public Library-Main Library[/caption]\n\nTo Steal A Moment Sho
 w hosted by JAG/TAC at the Jacksonville Public Library\, 3rd Floor\, for F
 CPAP members only. This is a judged and juried show. Submit entries by com
 pleting the Call formTo Steal A Moment-Library Show and emailing to Cookie
  Davis. Pay for entries per the JAG/TAC call form. For this show\, members
  CANNOT enter through the FCPAP website.
ATTACH;FMTTYPE=image/jpeg:https://firstcoastpleinairpainters.org/wp-conten
 t/uploads/2026/02/Sports-Entertainment-5_Jax-Library-Program-1-min-1080x72
 3-4.jpg
CATEGORIES:Event,Exhibition/Show
LOCATION:Jacksonville Public Library - Main Library\, 303 N. Laura Street\,
  Jacksonville\, Florida/Duval\, 32202\, United States
X-APPLE-STRUCTURED-LOCATION;VALUE=URI;X-ADDRESS=303 N. Laura Street\, Jacks
 onville\, Florida/Duval\, 32202\, United States;X-APPLE-RADIUS=100;X-TITLE
 =Jacksonville Public Library - Main Library:geo:0,0
END:VEVENT
BEGIN:VTIMEZONE
TZID:America/New_York
X-LIC-LOCATION:America/New_York
BEGIN:DAYLIGHT
DTSTART:20260308T030000
TZOFFSETFROM:-0500
TZOFFSETTO:-0400
TZNAME:EDT
END:DAYLIGHT
END:VTIMEZONE
END:VCALENDAR