BEGIN:VCALENDAR
VERSION:2.0
PRODID:-//wp-events-plugin.com//7.2.3.1//EN
TZID:America/New_York
X-WR-TIMEZONE:America/New_York
BEGIN:VEVENT
UID:876@firstcoastpleinairpainters.org
DTSTART;TZID=America/New_York:20260701T000000
DTEND;TZID=America/New_York:20260701T000000
DTSTAMP:20251217T223046Z
URL:https://firstcoastpleinairpainters.org/events/pick-up-paintings-from-a
 -moment-in-time-america-250/
SUMMARY:Pick up paintings from A Moment in Time\, America 250
DESCRIPTION:Actual pick up date is TBD
CATEGORIES:Member Dates
LOCATION:Lightner Museum\, 75 King Street\, St. Augustine\, FL\, 32084\, Un
 ited States
X-APPLE-STRUCTURED-LOCATION;VALUE=URI;X-ADDRESS=75 King Street\, St. August
 ine\, FL\, 32084\, United States;X-APPLE-RADIUS=100;X-TITLE=Lightner Museu
 m:geo:0,0
END:VEVENT
BEGIN:VTIMEZONE
TZID:America/New_York
X-LIC-LOCATION:America/New_York
BEGIN:DAYLIGHT
DTSTART:20260308T030000
TZOFFSETFROM:-0500
TZOFFSETTO:-0400
TZNAME:EDT
END:DAYLIGHT
END:VTIMEZONE
END:VCALENDAR