BEGIN:VCALENDAR
VERSION:2.0
PRODID:-//wp-events-plugin.com//7.2.3.1//EN
TZID:America/New_York
X-WR-TIMEZONE:America/New_York
BEGIN:VEVENT
UID:892@firstcoastpleinairpainters.org
DTSTART;TZID=America/New_York:20260502T090000
DTEND;TZID=America/New_York:20260502T140000
DTSTAMP:20260330T161428Z
URL:https://firstcoastpleinairpainters.org/events/paint-out-university-of-
 north-florida-lake-oneida/
SUMMARY:PAINT OUT - University of North Florida Lake Oneida
DESCRIPTION:The main lake at UNF\, Lake Oneida\, is a scenic area surrounde
 d by nature trails with various vistas to paint.\n\nAddress:  1 UNF Dr.\,
  Jax 32224\n\nParking is free on weekends.
CATEGORIES:Event,Paint-Outs
LOCATION:University of North Florida\, 1 UNF Drive\, Jacksonville\, FL\, 32
 224\, 
X-APPLE-STRUCTURED-LOCATION;VALUE=URI;X-ADDRESS=1 UNF Drive\, Jacksonville\
 , FL\, 32224\, ;X-APPLE-RADIUS=100;X-TITLE=University of North Florida:geo
 :0,0
END:VEVENT
BEGIN:VTIMEZONE
TZID:America/New_York
X-LIC-LOCATION:America/New_York
BEGIN:DAYLIGHT
DTSTART:20260308T030000
TZOFFSETFROM:-0500
TZOFFSETTO:-0400
TZNAME:EDT
END:DAYLIGHT
END:VTIMEZONE
END:VCALENDAR