BEGIN:VCALENDAR
VERSION:2.0
PRODID:-//wp-events-plugin.com//7.2.3.1//EN
TZID:America/New_York
X-WR-TIMEZONE:America/New_York
BEGIN:VEVENT
UID:848@firstcoastpleinairpainters.org
DTSTART;TZID=America/New_York:20270315T100000
DTEND;TZID=America/New_York:20270315T113000
DTSTAMP:20250714T173516Z
URL:https://firstcoastpleinairpainters.org/events/general-meeting-2027-03-
 15/
SUMMARY:General Meeting
DESCRIPTION:3rd Monday of the month (unless otherwise scheduled)
ATTACH;FMTTYPE=image/jpeg:https://firstcoastpleinairpainters.org/wp-conten
 t/uploads/2025/03/Cork.jpg
CATEGORIES:Meetings
LOCATION:Cork Arts Studios\, 2689 Rosselle Street\, Jacksonville\, Florida\
 , 32204\, United States
GEO:30.319581;-81.696203
X-APPLE-STRUCTURED-LOCATION;VALUE=URI;X-ADDRESS=2689 Rosselle Street\, Jack
 sonville\, Florida\, 32204\, United States;X-APPLE-RADIUS=100;X-TITLE=Cork
  Arts Studios:geo:30.319581,-81.696203
END:VEVENT
BEGIN:VTIMEZONE
TZID:America/New_York
X-LIC-LOCATION:America/New_York
BEGIN:DAYLIGHT
DTSTART:20270314T030000
TZOFFSETFROM:-0500
TZOFFSETTO:-0400
TZNAME:EDT
END:DAYLIGHT
END:VTIMEZONE
END:VCALENDAR