BEGIN:VCALENDAR
VERSION:2.0
PRODID:-//wp-events-plugin.com//7.2.3.1//EN
TZID:America/New_York
X-WR-TIMEZONE:America/New_York
BEGIN:VEVENT
UID:50@firstcoastpleinairpainters.org
DTSTART;TZID=America/New_York:20270304T100000
DTEND;TZID=America/New_York:20270304T120000
DTSTAMP:20250410T180904Z
URL:https://firstcoastpleinairpainters.org/events/board-meeting-2027-03-04
 /
SUMMARY:Board Meeting
DESCRIPTION:1st Thursday of the month (unless otherwise scheduled)\n\nLocat
 ion: Cracker Barrel\, 4680 Lenoir Avenue\, Jacksonville (unless otherwise 
 scheduled)\n\n10am - 12 noon (unless otherwise scheduled\, see Calendar)
ATTACH;FMTTYPE=image/jpeg:https://firstcoastpleinairpainters.org/wp-conten
 t/uploads/2025/03/image-1.jpeg
LOCATION:Cracker Barrel\, 4680 Lenoir Ave\, Jacksonville\, Florida\, 32216\
 , United States
GEO:30.249596;-81.5989
X-APPLE-STRUCTURED-LOCATION;VALUE=URI;X-ADDRESS=4680 Lenoir Ave\, Jacksonvi
 lle\, Florida\, 32216\, United States;X-APPLE-RADIUS=100;X-TITLE=Cracker B
 arrel:geo:30.249596,-81.5989
END:VEVENT
BEGIN:VTIMEZONE
TZID:America/New_York
X-LIC-LOCATION:America/New_York
BEGIN:STANDARD
DTSTART:20261101T010000
TZOFFSETFROM:-0400
TZOFFSETTO:-0500
TZNAME:EST
END:STANDARD
END:VTIMEZONE
END:VCALENDAR