BEGIN:VCALENDAR
VERSION:2.0
PRODID:-//wp-events-plugin.com//7.2.3.1//EN
TZID:America/New_York
X-WR-TIMEZONE:America/New_York
BEGIN:VEVENT
UID:867@firstcoastpleinairpainters.org
DTSTART;TZID=America/New_York:20260320T000000
DTEND;TZID=America/New_York:20260701T000000
DTSTAMP:20260104T223158Z
URL:https://firstcoastpleinairpainters.org/events/a-moment-in-time-america
 -250/
SUMMARY:A Moment In Time\, America 250
DESCRIPTION:As the nation marks its semiquincentennial anniversary\, the Li
 ghtner Museum and the First Coast Plein Air Painters celebrate the timeles
 s beauty of Northeast Florida and its place in America’s story.\nIn th
 e late nineteenth century\, America’s First Coast emerged as a seasonal 
 haven for painters from artist colonies across the United States. They wer
 e captivated by the region’s expansive skies\, historic architecture\, a
 nd diverse landscapes. Many found eager patrons among the Gilded Age visit
 ors who wintered at Henry Flagler’s grand hotels\, ensuring that art bec
 ame a defining feature of the region’s cultural fabric.\nToday\, this le
 gacy continues through the First Coast Plein Air Painters\, a vibrant comm
 unity of artists from Northeast Florida and Southeast Georgia who work d
 irectly from life\, capturing the ever-changing light\, atmosphere\, and b
 eauty of the region.\nClick HERE for the Prospectus
ATTACH;FMTTYPE=image/jpeg:https://firstcoastpleinairpainters.org/wp-conten
 t/uploads/2025/08/IMG_8899-e1766003413411.jpeg
CATEGORIES:Event
LOCATION:Lightner Museum\, 75 King Street\, St. Augustine\, FL\, 32084\, Un
 ited States
X-APPLE-STRUCTURED-LOCATION;VALUE=URI;X-ADDRESS=75 King Street\, St. August
 ine\, FL\, 32084\, United States;X-APPLE-RADIUS=100;X-TITLE=Lightner Museu
 m:geo:0,0
END:VEVENT
BEGIN:VTIMEZONE
TZID:America/New_York
X-LIC-LOCATION:America/New_York
BEGIN:DAYLIGHT
DTSTART:20260308T030000
TZOFFSETFROM:-0500
TZOFFSETTO:-0400
TZNAME:EDT
END:DAYLIGHT
END:VTIMEZONE
END:VCALENDAR